BEGIN:VCALENDAR
VERSION:2.0
PRODID:-//GÉTICA, Grupo Español de Terapias Inmuno-Biológicas en Cáncer//NO
 NSGML kigkonsult.se iCalcreator 2.30.10//
CALSCALE:GREGORIAN
METHOD:PUBLISH
UID:1644b990-1594-4eac-8dc8-c836ca5e9476
X-WR-CALNAME:iCagenda
X-WR-CALDESC:Event Management Extension for Joomla!
X-WR-RELCALID:3E26604A-50F4-4449-8B3E-E4F4932D05B5
X-WR-TIMEZONE:Europe/Madrid
BEGIN:VTIMEZONE
TZID:Europe/Madrid
BEGIN:STANDARD
TZNAME:CET
DTSTART:20171029T030000
TZOFFSETFROM:+0200
TZOFFSETTO:+0100
RDATE:20181028T030000
END:STANDARD
BEGIN:DAYLIGHT
TZNAME:CEST
DTSTART:20170326T020000
TZOFFSETFROM:+0100
TZOFFSETTO:+0200
RDATE:20180325T020000
RDATE:20190331T020000
END:DAYLIGHT
END:VTIMEZONE
BEGIN:VEVENT
UID:f13845ed-fd9c-4b2f-9640-b392b5fbd3bd
DTSTAMP:20260425T104901Z
CATEGORIES:GÉTICA
CLASS:PUBLIC
DESCRIPTION;ALTREP="CID:<FFFF__=0ABBE548DFE235B58f9e8a93d@coffeebean.com>":
 Secretaría Técnica:Grupo Arán de Comunicación C/Castelló\, 128-1º - 28006 
 MadridTel: 91 782 00 33 · Fax: 91 561 57 87 ·E-mail:&nbsp\;congreso4@grupo
 aran.com\nContacto de GÉTICA:&nbsp\;gestion@getica.org\n\nPrograma Científ
 ico\nPortal de inscripciones FITCancer 4\nBases del Concurso de Comunicaci
 ones\nInstrucciones para el envío de comunicaciones\nInstructions for SITC
 -sponsored travel grants\n\nEl plazo para el envío de comunicaciones para 
 presentación ORAL preferente se ha ampliado hasta el día 18 de febrero a l
 as 23:59 h. Para registrar una comunicación\, deben hacerlo a través del s
 iguiente enlace.\nDESCARGA LA APP FIT CÁNCER 2018\n\n\n\n\n\n\n\n\n\n
DTSTART:20180308T070000Z
DTEND:20180310T150000Z
GEO:+40.406094;-3.682501
LOCATION:Real Fábrica de Tapices
ORGANIZER:
SEQUENCE:1
SUMMARY:IV Foro de Inmunología Traslacional e Inmunoterapia del Cáncer (FIT
 -CANCER 4)
TRANSP:OPAQUE
URL:https://www.getica.org/item-eventos/agenda/8-iv-foro-de-inmunologia-tra
 slacional-e-inmunoterapia-del-cancer-fit-cancer-4
END:VEVENT
END:VCALENDAR
